BEGIN:VCALENDAR
VERSION:2.0
CALSCALE:GREGORIAN
PRODID:-//Diputació de Barcelona//DibaCMS//EN
BEGIN:VEVENT
UID:23745
DTSTAMP:20260424T060727
DTSTART:20220319T173000
DTEND:20220319T173000
SUMMARY:Mercat de l'Olla 2022: Tastaolletes 
LOCATION:
METHOD:PUBLISH
X-WR-CALNAME:caldesm@caldesdemontbui.cat
X-WR-TIMEZONE:Europe/Madrid
DESCRIPTION:
URI:https://www.caldesdemontbui.cat/actualitat/agenda/mercat-de-lolla-2022-tastaolletes-.html
CLASS:PUBLIC
END:VEVENT
END:VCALENDAR
