BEGIN:VCALENDAR
VERSION:2.0
CALSCALE:GREGORIAN
PRODID:-//Diputació de Barcelona//DibaCMS//EN
BEGIN:VEVENT
UID:23707
DTSTAMP:20260424T135109
DTSTART:20220308T210000
DTEND:20220308T210000
SUMMARY:8M. Sopar de dones i taula rodona "Dones avui. La lluita continua..."
LOCATION:Corredossos de Baix, 9-11 08140 Caldes de Montbui
METHOD:PUBLISH
X-WR-CALNAME:caldesm@caldesdemontbui.cat
X-WR-TIMEZONE:Europe/Madrid
DESCRIPTION:
URI:https://www.caldesdemontbui.cat/actualitat/agenda/8m-sopar-de-dones-i-taula-rodona-dones-avui-la-lluita-continua.html
CLASS:PUBLIC
END:VEVENT
END:VCALENDAR
