BEGIN:VCALENDAR
VERSION:2.0
CALSCALE:GREGORIAN
PRODID:-//Diputació de Barcelona//DibaCMS//EN
BEGIN:VEVENT
UID:23706
DTSTAMP:20260424T154018
DTSTART:20220308T203000
DTEND:20220308T203000
SUMMARY:8M. XXIIè Sopar de Dones
LOCATION:
METHOD:PUBLISH
X-WR-CALNAME:caldesm@caldesdemontbui.cat
X-WR-TIMEZONE:Europe/Madrid
DESCRIPTION:
URI:https://www.caldesdemontbui.cat/actualitat/agenda/8m-xxiie-sopar-de-dones.html
CLASS:PUBLIC
END:VEVENT
END:VCALENDAR
