BEGIN:VCALENDAR
VERSION:2.0
CALSCALE:GREGORIAN
PRODID:-//Diputació de Barcelona//DibaCMS//EN
BEGIN:VEVENT
UID:23705
DTSTAMP:20260424T043724
DTSTART:20220308T200000
DTEND:20220308T200000
SUMMARY:8M. Col·laboració castellera dels Castellers de Caldes (pilar de 4)
LOCATION:
METHOD:PUBLISH
X-WR-CALNAME:caldesm@caldesdemontbui.cat
X-WR-TIMEZONE:Europe/Madrid
DESCRIPTION:
URI:https://www.caldesdemontbui.cat/actualitat/agenda/8m-collaboracio-castellera-dels-castellers-de-caldes-pilar-de-4.html
CLASS:PUBLIC
END:VEVENT
END:VCALENDAR
