BEGIN:VCALENDAR
VERSION:2.0
CALSCALE:GREGORIAN
PRODID:-//Diputació de Barcelona//DibaCMS//EN
BEGIN:VEVENT
UID:23704
DTSTAMP:20260424T061128
DTSTART:20220308T190000
DTEND:20220308T190000
SUMMARY:8M. Inauguració de l'exposició internacional "Dones en complicitat IV"
LOCATION:
METHOD:PUBLISH
X-WR-CALNAME:caldesm@caldesdemontbui.cat
X-WR-TIMEZONE:Europe/Madrid
DESCRIPTION:
URI:https://www.caldesdemontbui.cat/actualitat/agenda/8m-inauguracio-de-lexposicio-internacional-dones-en-complicitat-iv.html
CLASS:PUBLIC
END:VEVENT
END:VCALENDAR
