BEGIN:VCALENDAR
VERSION:2.0
CALSCALE:GREGORIAN
PRODID:-//Diputació de Barcelona//DibaCMS//EN
BEGIN:VEVENT
UID:23703
DTSTAMP:20260424T025146
DTSTART:20220307T190000
DTEND:20220307T190000
SUMMARY:8M: Taller de catifes i joc "A la cerca del tresor"
LOCATION:
METHOD:PUBLISH
X-WR-CALNAME:caldesm@caldesdemontbui.cat
X-WR-TIMEZONE:Europe/Madrid
DESCRIPTION:
URI:https://www.caldesdemontbui.cat/actualitat/agenda/8m-taller-de-catifes-i-joc-a-la-cerca-del-tresor.html
CLASS:PUBLIC
END:VEVENT
END:VCALENDAR
