BEGIN:VCALENDAR
VERSION:2.0
CALSCALE:GREGORIAN
PRODID:-//Diputació de Barcelona//DibaCMS//EN
BEGIN:VEVENT
UID:23698
DTSTAMP:20260424T043603
DTSTART:20220305T120000
DTEND:20220305T120000
SUMMARY:Acte central de la Jornada i presentació de La Cel, a càrrec de Tomàs Molina
LOCATION:
METHOD:PUBLISH
X-WR-CALNAME:caldesm@caldesdemontbui.cat
X-WR-TIMEZONE:Europe/Madrid
DESCRIPTION:
URI:https://www.caldesdemontbui.cat/actualitat/agenda/acte-central-de-la-jornada-i-presentacio-de-la-cel-a-carrec-de-tomas-molina.html
CLASS:PUBLIC
END:VEVENT
END:VCALENDAR
