BEGIN:VCALENDAR
VERSION:2.0
CALSCALE:GREGORIAN
PRODID:-//Diputació de Barcelona//DibaCMS//EN
BEGIN:VEVENT
UID:23683
DTSTAMP:20260424T042938
DTSTART:20220227T120000
DTEND:20220227T131500
SUMMARY:Visita dinamitzada a l’exposició “Estiueig de proximitat, 1850-1950” al Museu Thermalia
LOCATION:Plaça de la Font del Lleó, 20 08140 Caldes de Montbui
METHOD:PUBLISH
X-WR-CALNAME:caldesm@caldesdemontbui.cat
X-WR-TIMEZONE:Europe/Madrid
DESCRIPTION:
URI:https://www.caldesdemontbui.cat/actualitat/agenda/visita-dinamitzada-a-lexposicio-estiueig-de-proximitat-1850-1950-al-museu-thermalia.html
CLASS:PUBLIC
END:VEVENT
END:VCALENDAR
