BEGIN:VCALENDAR
VERSION:2.0
CALSCALE:GREGORIAN
PRODID:-//Diputació de Barcelona//DibaCMS//EN
BEGIN:VEVENT
UID:23669
DTSTAMP:20260424T025430
DTSTART:20220305T190000
DTEND:20220305T190000
SUMMARY:An die Musik (Oda a la música)
LOCATION:Carrer del Pont, 3 08140 Caldes de Montbui
METHOD:PUBLISH
X-WR-CALNAME:caldesm@caldesdemontbui.cat
X-WR-TIMEZONE:Europe/Madrid
DESCRIPTION:
URI:https://www.caldesdemontbui.cat/actualitat/agenda/an-die-musik-oda-a-la-musica.html
CLASS:PUBLIC
END:VEVENT
END:VCALENDAR
