BEGIN:VCALENDAR
VERSION:2.0
CALSCALE:GREGORIAN
PRODID:-//Diputació de Barcelona//DibaCMS//EN
BEGIN:VEVENT
UID:23664
DTSTAMP:20260424T060348
DTSTART:20220308T100000
DTEND:20220308T100000
SUMMARY:Taller «Ajuts per a empreses sobre el Fons Next Generation 2022»
LOCATION:
METHOD:PUBLISH
X-WR-CALNAME:caldesm@caldesdemontbui.cat
X-WR-TIMEZONE:Europe/Madrid
DESCRIPTION:
URI:https://www.caldesdemontbui.cat/actualitat/agenda/taller-ajuts-per-a-empreses-sobre-el-fons-next-generation-2022.html
CLASS:PUBLIC
END:VEVENT
END:VCALENDAR
