BEGIN:VCALENDAR
VERSION:2.0
CALSCALE:GREGORIAN
PRODID:-//Diputació de Barcelona//DibaCMS//EN
BEGIN:VEVENT
UID:23662
DTSTAMP:20260424T142855
DTSTART:20220224T180000
DTEND:20220224T180000
SUMMARY:Taller “Crea el teu barret per Carnestoltes” 
LOCATION:Santa Teresa, 3-5 08140 Caldes de Montbui
METHOD:PUBLISH
X-WR-CALNAME:caldesm@caldesdemontbui.cat
X-WR-TIMEZONE:Europe/Madrid
DESCRIPTION:
URI:https://www.caldesdemontbui.cat/actualitat/agenda/23662-taller-crea-el-teu-barret-per-carnestoltes-.html
CLASS:PUBLIC
END:VEVENT
END:VCALENDAR
