BEGIN:VCALENDAR
VERSION:2.0
CALSCALE:GREGORIAN
PRODID:-//Diputació de Barcelona//DibaCMS//EN
BEGIN:VEVENT
UID:23654
DTSTAMP:20260424T073116
DTSTART:20220224T200000
DTEND:20220224T200000
SUMMARY:Presentació del llibre "VIA ÚNICA: Pla estratègic per a fer efectiva la independència de Catalunya segons el dret internacional"
LOCATION:Carrer del Pont, 3 08140 Caldes de Montbui
METHOD:PUBLISH
X-WR-CALNAME:caldesm@caldesdemontbui.cat
X-WR-TIMEZONE:Europe/Madrid
DESCRIPTION:
URI:https://www.caldesdemontbui.cat/actualitat/agenda/presentacio-del-llibre-via-unica-pla-estrategic-per-a-fer-efectiva-la-independencia-de-catalunya-segons-el-dret-internacional.html
CLASS:PUBLIC
END:VEVENT
END:VCALENDAR
