BEGIN:VCALENDAR
VERSION:2.0
CALSCALE:GREGORIAN
PRODID:-//Diputació de Barcelona//DibaCMS//EN
BEGIN:VEVENT
UID:23648
DTSTAMP:20260424T060459
DTSTART:20220301T080000
DTEND:20220301T130000
SUMMARY:La deixalleria mòbil s’instal•larà el dimarts 1 de març, de 8 a 13 h 
LOCATION:
METHOD:PUBLISH
X-WR-CALNAME:caldesm@caldesdemontbui.cat
X-WR-TIMEZONE:Europe/Madrid
DESCRIPTION:
URI:https://www.caldesdemontbui.cat/actualitat/agenda/la-deixalleria-mobil-sinstallara-el-dimarts-1-de-marc-de-8-a-13-h-.html
CLASS:PUBLIC
END:VEVENT
END:VCALENDAR
