BEGIN:VCALENDAR
VERSION:2.0
CALSCALE:GREGORIAN
PRODID:-//Diputació de Barcelona//DibaCMS//EN
BEGIN:VEVENT
UID:23633
DTSTAMP:20260424T060119
DTSTART:20220303T183000
DTEND:20220303T183000
SUMMARY:Jornades de Portes Obertes als Centres Educatius- Xerrada informativa (telemàtica  amb inscripció prèvia) a l'Institut Pic del Vent
LOCATION:Maria Aurèlia Capmany, 2 08140 Caldes de Montbui
METHOD:PUBLISH
X-WR-CALNAME:caldesm@caldesdemontbui.cat
X-WR-TIMEZONE:Europe/Madrid
DESCRIPTION:
URI:https://www.caldesdemontbui.cat/actualitat/agenda/jornades-de-portes-obertes-als-centres-educatius-xerrada-informativa-telematica-amb-inscripcio-previa-a-linstitut-pic-del-vent.html
CLASS:PUBLIC
END:VEVENT
END:VCALENDAR
