BEGIN:VCALENDAR
VERSION:2.0
CALSCALE:GREGORIAN
PRODID:-//Diputació de Barcelona//DibaCMS//EN
BEGIN:VEVENT
UID:23632
DTSTAMP:20260424T061905
DTSTART:20220305T093000
DTEND:20220305T093000
SUMMARY:Jornades de Portes Obertes als Centres Educatius- Xerrada informativa i visita guiada pel centre(presencial amb inscripció prèvia) a l'Escola Montbui  
LOCATION:C. Dr. Fleming S/N 08140 Caldes de Montbui
METHOD:PUBLISH
X-WR-CALNAME:caldesm@caldesdemontbui.cat
X-WR-TIMEZONE:Europe/Madrid
DESCRIPTION:Altres horaris: 10.30 h i a les 11.30 h

URI:https://www.caldesdemontbui.cat/actualitat/agenda/23632-jornades-de-portes-obertes-als-centres-educatius-xerrada-informativa-i-visita-guiada-pel-centrepresencial-amb-inscripcio-previa-a-lescola-montbui-.html
CLASS:PUBLIC
END:VEVENT
END:VCALENDAR
