BEGIN:VCALENDAR
VERSION:2.0
CALSCALE:GREGORIAN
PRODID:-//Diputació de Barcelona//DibaCMS//EN
BEGIN:VEVENT
UID:23631
DTSTAMP:20260424T042106
DTSTART:20220303T173000
DTEND:20220303T173000
SUMMARY:Jornades de Portes Obertes als Centres Educatius- Xerrada informativa i visita guiada pel centre(presencial amb inscripció prèvia) a l'Escola Montbui 
LOCATION:C. Dr. Fleming S/N 08140 Caldes de Montbui
METHOD:PUBLISH
X-WR-CALNAME:caldesm@caldesdemontbui.cat
X-WR-TIMEZONE:Europe/Madrid
DESCRIPTION:
URI:https://www.caldesdemontbui.cat/actualitat/agenda/jornades-de-portes-obertes-als-centres-educatius-xerrada-informativa-i-visita-guiada-pel-centrepresencial-amb-inscripcio-previa-a-lescola-montbui-.html
CLASS:PUBLIC
END:VEVENT
END:VCALENDAR
