BEGIN:VCALENDAR
VERSION:2.0
CALSCALE:GREGORIAN
PRODID:-//Diputació de Barcelona//DibaCMS//EN
BEGIN:VEVENT
UID:23628
DTSTAMP:20260424T074130
DTSTART:20220226T093000
DTEND:20220226T093000
SUMMARY:Jornades de Portes Obertes als Centres Educatius- Xerrada informativa i visita guiada pel centre (presencial amb inscripció prèvia) a l'Escola El Farell 
LOCATION:Zona Esportiva, s/n 08140 Caldes de Montbui
METHOD:PUBLISH
X-WR-CALNAME:caldesm@caldesdemontbui.cat
X-WR-TIMEZONE:Europe/Madrid
DESCRIPTION:Altres horaris: 11 h

URI:https://www.caldesdemontbui.cat/actualitat/agenda/jornades-de-portes-obertes-als-centres-educatius-xerrada-informativa-i-visita-guiada-pel-centre-presencial-amb-inscripcio-previa-a-lescola-el-farell-.html
CLASS:PUBLIC
END:VEVENT
END:VCALENDAR
