BEGIN:VCALENDAR
VERSION:2.0
CALSCALE:GREGORIAN
PRODID:-//Diputació de Barcelona//DibaCMS//EN
BEGIN:VEVENT
UID:23627
DTSTAMP:20260424T074212
DTSTART:20220224T190000
DTEND:20220224T190000
SUMMARY:Jornades de Portes Obertes als Centres Educatius- Xerrada informativa telemàtica amb inscripció prèvia a l'Escola El Farell 
LOCATION:Zona Esportiva, s/n 08140 Caldes de Montbui
METHOD:PUBLISH
X-WR-CALNAME:caldesm@caldesdemontbui.cat
X-WR-TIMEZONE:Europe/Madrid
DESCRIPTION:
URI:https://www.caldesdemontbui.cat/actualitat/agenda/jornades-de-portes-obertes-als-centres-educatius-xerrada-informativa-telematica-amb-inscripcio-previa-a-lescola-el-farell-.html
CLASS:PUBLIC
END:VEVENT
END:VCALENDAR
