BEGIN:VCALENDAR
VERSION:2.0
CALSCALE:GREGORIAN
PRODID:-//Diputació de Barcelona//DibaCMS//EN
BEGIN:VEVENT
UID:23625
DTSTAMP:20260424T025246
DTSTART:20220305T100000
DTEND:20220305T100000
SUMMARY:Jornades de Portes Obertes als Centres Educatius- Xerrada informativa i visita guiada pel centre (presencial amb inscripció prèvia) a l'Escola El Calderí 
LOCATION:M. Aurèlia Capmany, 2 08140 Caldes de Montbui
METHOD:PUBLISH
X-WR-CALNAME:caldesm@caldesdemontbui.cat
X-WR-TIMEZONE:Europe/Madrid
DESCRIPTION:Altres horaris: a les 12 h

URI:https://www.caldesdemontbui.cat/actualitat/agenda/23625-jornades-de-portes-obertes-als-centres-educatius-xerrada-informativa-i-visita-guiada-pel-centre-presencial-amb-inscripcio-previa-a-lescola-el-calderi-.html
CLASS:PUBLIC
END:VEVENT
END:VCALENDAR
