BEGIN:VCALENDAR
VERSION:2.0
CALSCALE:GREGORIAN
PRODID:-//Diputació de Barcelona//DibaCMS//EN
BEGIN:VEVENT
UID:23623
DTSTAMP:20260424T060716
DTSTART:20220301T190000
DTEND:20220301T190000
SUMMARY:Jornades de Portes Obertes als Centres Educatius- Xerrada informativa telemàtica a l'Escola El Calderí
LOCATION:M. Aurèlia Capmany, 2 08140 Caldes de Montbui
METHOD:PUBLISH
X-WR-CALNAME:caldesm@caldesdemontbui.cat
X-WR-TIMEZONE:Europe/Madrid
DESCRIPTION:
URI:https://www.caldesdemontbui.cat/actualitat/agenda/jornades-de-portes-obertes-als-centres-educatius-xerrada-informativa-telematica-a-lescola-el-calderi.html
CLASS:PUBLIC
END:VEVENT
END:VCALENDAR
