BEGIN:VCALENDAR
VERSION:2.0
CALSCALE:GREGORIAN
PRODID:-//Diputació de Barcelona//DibaCMS//EN
BEGIN:VEVENT
UID:23622
DTSTAMP:20260424T043619
DTSTART:20220305T093000
DTEND:20220305T093000
SUMMARY:Jornades de Portes Obertes als Centres Educatius- Xerrada informativa i visita guiada pel centre (presencial amb cita prèvia)- ESO BTX i CF 
LOCATION:Infantil i Primària: Av. Josep Fontcuberta, 166 / ESO i Batxillerat: Av. Pi i Margall, 157 08140 Caldes de Montbui
METHOD:PUBLISH
X-WR-CALNAME:caldesm@caldesdemontbui.cat
X-WR-TIMEZONE:Europe/Madrid
DESCRIPTION:Altres horaris:  11.30 h

URI:https://www.caldesdemontbui.cat/actualitat/agenda/jornades-de-portes-obertes-als-centres-educatius-xerrada-informativa-i-visita-guiada-pel-centre-presencial-amb-cita-previa-eso-btx-i-cf-.html
CLASS:PUBLIC
END:VEVENT
END:VCALENDAR
