BEGIN:VCALENDAR
VERSION:2.0
CALSCALE:GREGORIAN
PRODID:-//Diputació de Barcelona//DibaCMS//EN
BEGIN:VEVENT
UID:23618
DTSTAMP:20260424T041256
DTSTART:20220217T200000
DTEND:20220217T200000
SUMMARY:Jornades de Portes Obertes als Centres Educatius- Xerrada informativa (presencial amb inscripció prèvia) (BTX)
LOCATION:Infantil i Primària: Av. Josep Fontcuberta, 166 / ESO i Batxillerat: Av. Pi i Margall, 157 08140 Caldes de Montbui
METHOD:PUBLISH
X-WR-CALNAME:caldesm@caldesdemontbui.cat
X-WR-TIMEZONE:Europe/Madrid
DESCRIPTION:
URI:https://www.caldesdemontbui.cat/actualitat/agenda/jornades-de-portes-obertes-als-centres-educatius-xerrada-informativa-presencial-amb-inscripcio-previa-btx.html
CLASS:PUBLIC
END:VEVENT
END:VCALENDAR
