BEGIN:VCALENDAR
VERSION:2.0
CALSCALE:GREGORIAN
PRODID:-//Diputació de Barcelona//DibaCMS//EN
BEGIN:VEVENT
UID:23603
DTSTAMP:20260424T104117
DTSTART:20220223T180000
DTEND:20220223T180000
SUMMARY:Teatre de cambra "La porta oberta"
LOCATION:Carrer del Pont, 3 08140 Caldes de Montbui
METHOD:PUBLISH
X-WR-CALNAME:caldesm@caldesdemontbui.cat
X-WR-TIMEZONE:Europe/Madrid
DESCRIPTION:
URI:https://www.caldesdemontbui.cat/actualitat/agenda/teatre-de-cambra-la-porta-oberta.html
CLASS:PUBLIC
END:VEVENT
END:VCALENDAR
