BEGIN:VCALENDAR
VERSION:2.0
CALSCALE:GREGORIAN
PRODID:-//Diputació de Barcelona//DibaCMS//EN
BEGIN:VEVENT
UID:23601
DTSTAMP:20260424T123133
DTSTART:20220227T100000
DTEND:20220227T100000
SUMMARY:28a Cursa de muntanya El Farell
LOCATION:Zona Esportiva Les Cremades 08140 Caldes de Montbui
METHOD:PUBLISH
X-WR-CALNAME:caldesm@caldesdemontbui.cat
X-WR-TIMEZONE:Europe/Madrid
DESCRIPTION:
URI:https://www.caldesdemontbui.cat/actualitat/agenda/28a-cursa-de-muntanya-el-farell.html
CLASS:PUBLIC
END:VEVENT
END:VCALENDAR
