BEGIN:VCALENDAR
VERSION:2.0
CALSCALE:GREGORIAN
PRODID:-//Diputació de Barcelona//DibaCMS//EN
BEGIN:VEVENT
UID:23600
DTSTAMP:20260424T054552
DTSTART:20220223T100000
DTEND:20220223T140000
SUMMARY:Curs «Novetats en l’esfera del treball autònom»
LOCATION:
METHOD:PUBLISH
X-WR-CALNAME:caldesm@caldesdemontbui.cat
X-WR-TIMEZONE:Europe/Madrid
DESCRIPTION:
URI:https://www.caldesdemontbui.cat/actualitat/agenda/curs-novetats-en-lesfera-del-treball-autonom.html
CLASS:PUBLIC
END:VEVENT
END:VCALENDAR
