BEGIN:VCALENDAR
VERSION:2.0
CALSCALE:GREGORIAN
PRODID:-//Diputació de Barcelona//DibaCMS//EN
BEGIN:VEVENT
UID:23597
DTSTAMP:20260424T085938
DTSTART:20220217T180000
DTEND:20220217T180000
SUMMARY:Dijous de conte “En bum i el tresor del pirata” 
LOCATION:Santa Teresa, 3-5 08140 Caldes de Montbui
METHOD:PUBLISH
X-WR-CALNAME:caldesm@caldesdemontbui.cat
X-WR-TIMEZONE:Europe/Madrid
DESCRIPTION:
URI:https://www.caldesdemontbui.cat/actualitat/agenda/dijous-de-conte-en-bum-i-el-tresor-del-pirata-.html
CLASS:PUBLIC
END:VEVENT
END:VCALENDAR
