BEGIN:VCALENDAR
VERSION:2.0
CALSCALE:GREGORIAN
PRODID:-//Diputació de Barcelona//DibaCMS//EN
BEGIN:VEVENT
UID:23594
DTSTAMP:20260424T043736
DTSTART:20220226T170000
DTEND:20220226T230000
SUMMARY:Lluïment de disfresses i rua de Carnestoltes 2022
LOCATION:
METHOD:PUBLISH
X-WR-CALNAME:caldesm@caldesdemontbui.cat
X-WR-TIMEZONE:Europe/Madrid
DESCRIPTION:
URI:https://www.caldesdemontbui.cat/actualitat/agenda/lluiment-de-disfresses-i-rua-de-carnestoltes-2022.html
CLASS:PUBLIC
END:VEVENT
END:VCALENDAR
