BEGIN:VCALENDAR
VERSION:2.0
CALSCALE:GREGORIAN
PRODID:-//Diputació de Barcelona//DibaCMS//EN
BEGIN:VEVENT
UID:23587
DTSTAMP:20260424T172057
DTSTART:20220220T100000
DTEND:20220220T140000
SUMMARY:Fira d’antiquaris i brocanters del mes de febrer
LOCATION:
METHOD:PUBLISH
X-WR-CALNAME:caldesm@caldesdemontbui.cat
X-WR-TIMEZONE:Europe/Madrid
DESCRIPTION:
URI:https://www.caldesdemontbui.cat/actualitat/agenda/fira-dantiquaris-i-brocanters-del-mes-de-febrer.html
CLASS:PUBLIC
END:VEVENT
END:VCALENDAR
