BEGIN:VCALENDAR
VERSION:2.0
CALSCALE:GREGORIAN
PRODID:-//Diputació de Barcelona//DibaCMS//EN
BEGIN:VEVENT
UID:23585
DTSTAMP:20260424T085258
DTSTART:20220205T100100
DTEND:20220327T140000
SUMMARY:Exposició “Estiueig de proximitat, 1850-1950”, fins al 27 de març al Museu Thermalia 
LOCATION:
METHOD:PUBLISH
X-WR-CALNAME:caldesm@caldesdemontbui.cat
X-WR-TIMEZONE:Europe/Madrid
DESCRIPTION:
URI:https://www.caldesdemontbui.cat/actualitat/agenda/exposicio-estiueig-de-proximitat-1850-1950-fins-al-27-de-marc-al-museu-thermalia-.html
CLASS:PUBLIC
END:VEVENT
END:VCALENDAR
