BEGIN:VCALENDAR
VERSION:2.0
CALSCALE:GREGORIAN
PRODID:-//Diputació de Barcelona//DibaCMS//EN
BEGIN:VEVENT
UID:23584
DTSTAMP:20260424T085841
DTSTART:20220205T100000
DTEND:20220205T100000
SUMMARY:Inauguració de l'exposició “Estiueig de proximitat, 1850-1950”
LOCATION:Plaça de la Font del Lleó, 20 08140 Caldes de Montbui
METHOD:PUBLISH
X-WR-CALNAME:caldesm@caldesdemontbui.cat
X-WR-TIMEZONE:Europe/Madrid
DESCRIPTION:
URI:https://www.caldesdemontbui.cat/actualitat/agenda/inauguracio-de-lexposicio-estiueig-de-proximitat-1850-1950.html
CLASS:PUBLIC
END:VEVENT
END:VCALENDAR
