BEGIN:VCALENDAR
VERSION:2.0
CALSCALE:GREGORIAN
PRODID:-//Diputació de Barcelona//DibaCMS//EN
BEGIN:VEVENT
UID:23575
DTSTAMP:20260424T085829
DTSTART:20220426T180000
DTEND:20220426T180000
SUMMARY:Còmic Club Caldes. Lectura de l'obra El Final de todos los agostos, d’Alfonso Casas.
LOCATION:Santa Teresa, 3-5 08140 Caldes de Montbui
METHOD:PUBLISH
X-WR-CALNAME:caldesm@caldesdemontbui.cat
X-WR-TIMEZONE:Europe/Madrid
DESCRIPTION:
URI:https://www.caldesdemontbui.cat/actualitat/agenda/comic-club-caldes-lectura-de-lobra-el-final-de-todos-los-agostos-dalfonso-casas.html
CLASS:PUBLIC
END:VEVENT
END:VCALENDAR
