BEGIN:VCALENDAR
VERSION:2.0
CALSCALE:GREGORIAN
PRODID:-//Diputació de Barcelona//DibaCMS//EN
BEGIN:VEVENT
UID:23527
DTSTAMP:20260424T074437
DTSTART:20220130T120000
DTEND:20220220T220000
SUMMARY:Exposició "Quan s'enduen el país: l'Espoli Franquista als ateneus de Catalunya"
LOCATION:Corredossos de Baix, 9-11 08140 Caldes de Montbui
METHOD:PUBLISH
X-WR-CALNAME:caldesm@caldesdemontbui.cat
X-WR-TIMEZONE:Europe/Madrid
DESCRIPTION:
URI:https://www.caldesdemontbui.cat/actualitat/agenda/exposicio-quan-senduen-el-pais-lespoli-franquista-als-ateneus-de-catalunya.html
CLASS:PUBLIC
END:VEVENT
END:VCALENDAR
