BEGIN:VCALENDAR
VERSION:2.0
CALSCALE:GREGORIAN
PRODID:-//Diputació de Barcelona//DibaCMS//EN
BEGIN:VEVENT
UID:23526
DTSTAMP:20260424T103904
DTSTART:20220213T190000
DTEND:20220213T190000
SUMMARY:Xerrada "El Jardí furtat o la persistència de l'espoli franquista a partir del cas del Centre de Caldes"
LOCATION:Corredossos de Baix, 9-11 08140 Caldes de Montbui
METHOD:PUBLISH
X-WR-CALNAME:caldesm@caldesdemontbui.cat
X-WR-TIMEZONE:Europe/Madrid
DESCRIPTION:
URI:https://www.caldesdemontbui.cat/actualitat/agenda/xerrada-el-jardi-furtat-o-la-persistencia-de-lespoli-franquista-a-partir-del-cas-del-centre-de-caldes.html
CLASS:PUBLIC
END:VEVENT
END:VCALENDAR
