BEGIN:VCALENDAR
VERSION:2.0
CALSCALE:GREGORIAN
PRODID:-//Diputació de Barcelona//DibaCMS//EN
BEGIN:VEVENT
UID:23525
DTSTAMP:20260424T104810
DTSTART:20220123T190000
DTEND:20220123T190000
SUMMARY:Actuació de Pol Fuentes
LOCATION:Corredossos de Baix, 9-11 08140 Caldes de Montbui
METHOD:PUBLISH
X-WR-CALNAME:caldesm@caldesdemontbui.cat
X-WR-TIMEZONE:Europe/Madrid
DESCRIPTION:
URI:https://www.caldesdemontbui.cat/actualitat/agenda/actuacio-de-pol-fuentes.html
CLASS:PUBLIC
END:VEVENT
END:VCALENDAR
