BEGIN:VCALENDAR
VERSION:2.0
CALSCALE:GREGORIAN
PRODID:-//Diputació de Barcelona//DibaCMS//EN
BEGIN:VEVENT
UID:23508
DTSTAMP:20260424T085420
DTSTART:20220123T220000
DTEND:20220123T220000
SUMMARY:Festes de Sant Antoni Abat 2022. Acte de fi de festa
LOCATION:
METHOD:PUBLISH
X-WR-CALNAME:caldesm@caldesdemontbui.cat
X-WR-TIMEZONE:Europe/Madrid
DESCRIPTION:
URI:https://www.caldesdemontbui.cat/actualitat/agenda/festes-de-sant-antoni-abat-2022-acte-de-fi-de-festa.html
CLASS:PUBLIC
END:VEVENT
END:VCALENDAR
