BEGIN:VCALENDAR
VERSION:2.0
CALSCALE:GREGORIAN
PRODID:-//Diputació de Barcelona//DibaCMS//EN
BEGIN:VEVENT
UID:23507
DTSTAMP:20260424T073851
DTSTART:20220123T183000
DTEND:20220123T183000
SUMMARY:Festes de Sant Antoni Abat 2022.Concert de Música Catalana
LOCATION:
METHOD:PUBLISH
X-WR-CALNAME:caldesm@caldesdemontbui.cat
X-WR-TIMEZONE:Europe/Madrid
DESCRIPTION:
URI:https://www.caldesdemontbui.cat/actualitat/agenda/festes-de-sant-antoni-abat-2022concert-de-musica-catalana.html
CLASS:PUBLIC
END:VEVENT
END:VCALENDAR
