BEGIN:VCALENDAR
VERSION:2.0
CALSCALE:GREGORIAN
PRODID:-//Diputació de Barcelona//DibaCMS//EN
BEGIN:VEVENT
UID:23506
DTSTAMP:20260424T104734
DTSTART:20220123T170000
DTEND:20220123T170000
SUMMARY:Festes de Sant Antoni Abat 2022. Dansa de Sant Antoni
LOCATION:
METHOD:PUBLISH
X-WR-CALNAME:caldesm@caldesdemontbui.cat
X-WR-TIMEZONE:Europe/Madrid
DESCRIPTION:
URI:https://www.caldesdemontbui.cat/actualitat/agenda/festes-de-sant-antoni-abat-2022-dansa-de-sant-antoni.html
CLASS:PUBLIC
END:VEVENT
END:VCALENDAR
