BEGIN:VCALENDAR
VERSION:2.0
CALSCALE:GREGORIAN
PRODID:-//Diputació de Barcelona//DibaCMS//EN
BEGIN:VEVENT
UID:23505
DTSTAMP:20260424T091231
DTSTART:20220123T113000
DTEND:20220123T113000
SUMMARY:Festes de Sant Antoni Abat 2022. Final del recorregut 
LOCATION:
METHOD:PUBLISH
X-WR-CALNAME:caldesm@caldesdemontbui.cat
X-WR-TIMEZONE:Europe/Madrid
DESCRIPTION:
URI:https://www.caldesdemontbui.cat/actualitat/agenda/festes-de-sant-antoni-abat-2022-final-del-recorregut-.html
CLASS:PUBLIC
END:VEVENT
END:VCALENDAR
