BEGIN:VCALENDAR
VERSION:2.0
CALSCALE:GREGORIAN
PRODID:-//Diputació de Barcelona//DibaCMS//EN
BEGIN:VEVENT
UID:23504
DTSTAMP:20260424T085709
DTSTART:20220123T113000
DTEND:20220123T113000
SUMMARY:Festes de Sant Antoni Abat 2022. Benedicció d'animals
LOCATION:
METHOD:PUBLISH
X-WR-CALNAME:caldesm@caldesdemontbui.cat
X-WR-TIMEZONE:Europe/Madrid
DESCRIPTION:
URI:https://www.caldesdemontbui.cat/actualitat/agenda/festes-de-sant-antoni-abat-2022-benediccio-danimals.html
CLASS:PUBLIC
END:VEVENT
END:VCALENDAR
