BEGIN:VCALENDAR
VERSION:2.0
CALSCALE:GREGORIAN
PRODID:-//Diputació de Barcelona//DibaCMS//EN
BEGIN:VEVENT
UID:23502
DTSTAMP:20260424T125534
DTSTART:20220123T080000
DTEND:20220123T100000
SUMMARY:Festes de Sant Antoni Abat 2022. Esmorzar del traginer
LOCATION:
METHOD:PUBLISH
X-WR-CALNAME:caldesm@caldesdemontbui.cat
X-WR-TIMEZONE:Europe/Madrid
DESCRIPTION:
URI:https://www.caldesdemontbui.cat/actualitat/agenda/festes-de-sant-antoni-abat-2022-esmorzar-del-traginer.html
CLASS:PUBLIC
END:VEVENT
END:VCALENDAR
