BEGIN:VCALENDAR
VERSION:2.0
CALSCALE:GREGORIAN
PRODID:-//Diputació de Barcelona//DibaCMS//EN
BEGIN:VEVENT
UID:23501
DTSTAMP:20260424T074248
DTSTART:20220117T191500
DTEND:20220117T191500
SUMMARY:Festes de Sant Antoni Abat 2022. Missa de difunts a la Parròquia de Santa Maria
LOCATION:Plaça de l'Església, 12 08140 Caldes de Montbui
METHOD:PUBLISH
X-WR-CALNAME:caldesm@caldesdemontbui.cat
X-WR-TIMEZONE:Europe/Madrid
DESCRIPTION:
URI:https://www.caldesdemontbui.cat/actualitat/agenda/festes-de-sant-antoni-abat-2022-missa-de-difunts-a-la-parroquia-de-santa-maria.html
CLASS:PUBLIC
END:VEVENT
END:VCALENDAR
