BEGIN:VCALENDAR
VERSION:2.0
CALSCALE:GREGORIAN
PRODID:-//Diputació de Barcelona//DibaCMS//EN
BEGIN:VEVENT
UID:23496
DTSTAMP:20260424T140949
DTSTART:20220119T190000
DTEND:20220119T190000
SUMMARY:Teatre "La porta oberta"
LOCATION:
METHOD:PUBLISH
X-WR-CALNAME:caldesm@caldesdemontbui.cat
X-WR-TIMEZONE:Europe/Madrid
DESCRIPTION:Aules d'extensió Universitària 

"Delfí Dalmau i Argemir" de Caldes de Montbui

c/. Sant Pau,24

08140-Caldes de Montbui

Tel. 637 852 741 / 610 753 055

www.aulescaldes.wordpress.com

URI:https://www.caldesdemontbui.cat/actualitat/agenda/teatre-la-porta-oberta.html
CLASS:PUBLIC
END:VEVENT
END:VCALENDAR
