BEGIN:VCALENDAR
VERSION:2.0
CALSCALE:GREGORIAN
PRODID:-//Diputació de Barcelona//DibaCMS//EN
BEGIN:VEVENT
UID:23434
DTSTAMP:20260424T140532
DTSTART:20220105T180000
DTEND:20220105T203000
SUMMARY:Nadal 2021/2022. Cavalcada de Reis
LOCATION:
METHOD:PUBLISH
X-WR-CALNAME:caldesm@caldesdemontbui.cat
X-WR-TIMEZONE:Europe/Madrid
DESCRIPTION:
URI:https://www.caldesdemontbui.cat/actualitat/agenda/nadal-20212022-cavalcada-de-reis.html
CLASS:PUBLIC
END:VEVENT
END:VCALENDAR
