BEGIN:VCALENDAR
VERSION:2.0
CALSCALE:GREGORIAN
PRODID:-//Diputació de Barcelona//DibaCMS//EN
BEGIN:VEVENT
UID:23427
DTSTAMP:20260424T074259
DTSTART:20220101T190000
DTEND:20220101T190000
SUMMARY:Nadal 2021/2022. Concert de valsos a càrrec de la Jove Orquestra Filharmònica de Catalunya amb el director Melani Mestres
LOCATION:
METHOD:PUBLISH
X-WR-CALNAME:caldesm@caldesdemontbui.cat
X-WR-TIMEZONE:Europe/Madrid
DESCRIPTION:
URI:https://www.caldesdemontbui.cat/actualitat/agenda/nadal-20212022-concert-de-valsos-a-carrec-de-la-jove-orquestra-filharmonica-de-catalunya-amb-el-director-melani-mestres.html
CLASS:PUBLIC
END:VEVENT
END:VCALENDAR
