BEGIN:VCALENDAR
VERSION:2.0
CALSCALE:GREGORIAN
PRODID:-//Diputació de Barcelona//DibaCMS//EN
BEGIN:VEVENT
UID:23422
DTSTAMP:20260424T055333
DTSTART:20211224T170000
DTEND:20211224T170000
SUMMARY:Nadal 2021/2022. Pessebre vivent
LOCATION:Plaça de l'Església, 12 08140 Caldes de Montbui
METHOD:PUBLISH
X-WR-CALNAME:caldesm@caldesdemontbui.cat
X-WR-TIMEZONE:Europe/Madrid
DESCRIPTION:
URI:https://www.caldesdemontbui.cat/actualitat/agenda/nadal-20212022-pessebre-vivent.html
CLASS:PUBLIC
END:VEVENT
END:VCALENDAR
