BEGIN:VCALENDAR
VERSION:2.0
CALSCALE:GREGORIAN
PRODID:-//Diputació de Barcelona//DibaCMS//EN
BEGIN:VEVENT
UID:23417
DTSTAMP:20260424T091306
DTSTART:20211219T190000
DTEND:20211219T190000
SUMMARY:Nadal 2021/2022. Concert Blueroomess
LOCATION:Corredossos de Baix, 9-11 08140 Caldes de Montbui
METHOD:PUBLISH
X-WR-CALNAME:caldesm@caldesdemontbui.cat
X-WR-TIMEZONE:Europe/Madrid
DESCRIPTION:
URI:https://www.caldesdemontbui.cat/actualitat/agenda/nadal-20212022-concert-blueroomess.html
CLASS:PUBLIC
END:VEVENT
END:VCALENDAR
