BEGIN:VCALENDAR
VERSION:2.0
CALSCALE:GREGORIAN
PRODID:-//Diputació de Barcelona//DibaCMS//EN
BEGIN:VEVENT
UID:23415
DTSTAMP:20260424T090049
DTSTART:20211219T100000
DTEND:20211219T140000
SUMMARY:Nadal 2021/2022. Matinal Solidària
LOCATION:
METHOD:PUBLISH
X-WR-CALNAME:caldesm@caldesdemontbui.cat
X-WR-TIMEZONE:Europe/Madrid
DESCRIPTION:
URI:https://www.caldesdemontbui.cat/actualitat/agenda/nadal-20212022-matinal-solidaria.html
CLASS:PUBLIC
END:VEVENT
END:VCALENDAR
