BEGIN:VCALENDAR
VERSION:2.0
CALSCALE:GREGORIAN
PRODID:-//Diputació de Barcelona//DibaCMS//EN
BEGIN:VEVENT
UID:23385
DTSTAMP:20260424T111322
DTSTART:20211220T181500
DTEND:20211220T181500
SUMMARY:Nadal 2021/2022. Nadales a càrrec de l’alumnat del curs de llenguatge de 1er de Nivell Elemental
LOCATION:Buenos Aires, 16 08140 Caldes de Montbui
METHOD:PUBLISH
X-WR-CALNAME:caldesm@caldesdemontbui.cat
X-WR-TIMEZONE:Europe/Madrid
DESCRIPTION:
URI:https://www.caldesdemontbui.cat/actualitat/agenda/nadal-20212022-nadales-a-carrec-de-lalumnat-del-curs-de-llenguatge-de-1er-de-nivell-elemental.html
CLASS:PUBLIC
END:VEVENT
END:VCALENDAR
