BEGIN:VCALENDAR
VERSION:2.0
CALSCALE:GREGORIAN
PRODID:-//Diputació de Barcelona//DibaCMS//EN
BEGIN:VEVENT
UID:23363
DTSTAMP:20260424T103130
DTSTART:20211211T103000
DTEND:20211211T103000
SUMMARY:Procés participatiu El Carme s'obre al poble
LOCATION:
METHOD:PUBLISH
X-WR-CALNAME:caldesm@caldesdemontbui.cat
X-WR-TIMEZONE:Europe/Madrid
DESCRIPTION:
URI:https://www.caldesdemontbui.cat/actualitat/agenda/proces-participatiu-el-carme-sobre-al-poble.html
CLASS:PUBLIC
END:VEVENT
END:VCALENDAR
