BEGIN:VCALENDAR
VERSION:2.0
CALSCALE:GREGORIAN
PRODID:-//Diputació de Barcelona//DibaCMS//EN
BEGIN:VEVENT
UID:23342
DTSTAMP:20260424T093504
DTSTART:20211128T190000
DTEND:20211128T190000
SUMMARY:Assemblea General Ordinària de socis del Centre, Ateneu Democràtic i Progressista,
LOCATION:
METHOD:PUBLISH
X-WR-CALNAME:caldesm@caldesdemontbui.cat
X-WR-TIMEZONE:Europe/Madrid
DESCRIPTION:
URI:https://www.caldesdemontbui.cat/actualitat/agenda/23342-assemblea-general-ordinaria-de-socis-del-centre-ateneu-democratic-i-progressista.html
CLASS:PUBLIC
END:VEVENT
END:VCALENDAR
